BEGIN:VCALENDAR
VERSION:2.0
PRODID:-//Micha van Weers - ECPv6.15.20//NONSGML v1.0//EN
CALSCALE:GREGORIAN
METHOD:PUBLISH
X-ORIGINAL-URL:https://michavanweers.com
X-WR-CALDESC:Evenementen voor Micha van Weers
REFRESH-INTERVAL;VALUE=DURATION:PT1H
X-Robots-Tag:noindex
X-PUBLISHED-TTL:PT1H
BEGIN:VTIMEZONE
TZID:Europe/Amsterdam
BEGIN:DAYLIGHT
TZOFFSETFROM:+0100
TZOFFSETTO:+0200
TZNAME:CEST
DTSTART:20210328T010000
END:DAYLIGHT
BEGIN:STANDARD
TZOFFSETFROM:+0200
TZOFFSETTO:+0100
TZNAME:CET
DTSTART:20211031T010000
END:STANDARD
BEGIN:DAYLIGHT
TZOFFSETFROM:+0100
TZOFFSETTO:+0200
TZNAME:CEST
DTSTART:20220327T010000
END:DAYLIGHT
BEGIN:STANDARD
TZOFFSETFROM:+0200
TZOFFSETTO:+0100
TZNAME:CET
DTSTART:20221030T010000
END:STANDARD
BEGIN:DAYLIGHT
TZOFFSETFROM:+0100
TZOFFSETTO:+0200
TZNAME:CEST
DTSTART:20230326T010000
END:DAYLIGHT
BEGIN:STANDARD
TZOFFSETFROM:+0200
TZOFFSETTO:+0100
TZNAME:CET
DTSTART:20231029T010000
END:STANDARD
END:VTIMEZONE
BEGIN:VEVENT
DTSTART;TZID=Europe/Amsterdam:20221218T150000
DTEND;TZID=Europe/Amsterdam:20221218T170000
DTSTAMP:20260420T224427
CREATED:20221121T104025Z
LAST-MODIFIED:20221121T104136Z
UID:1319-1671375600-1671382800@michavanweers.com
SUMMARY:Haren | liedrecital VvhL - Moje Láska
DESCRIPTION:Uitvoerenden: \n\nKarolina Hartman – mezzosopraan\nMicha van Weers – piano\n\n\nAanvangstijd: 15.00 uurOrganisatie: Vereniging Vrienden van het Lied \nProgramma‘Moje Láska’ de liefde bezongen in Tsjechische liederen van Antonín Dvořák\, Leoš Janáček\, Bohuslav Martinů\, en verrassende werken van zijn leerlinge Vítězslava Kaprálová. De liederen worden afgewisseld met prachtige Tsjechische pianosolowerken. \nLocatie: t.h.v. mw Bakker\, Irenelaan 8\, 9752 LS Haren \nAanmelden:bij contactpersoon Riekje Bakkervia 06 12536509 of bij voorkeurper e-mail: groningen@vvhl.nl \n\nInfo: www.vvhl.nl \n\n\n			\n			\n				\n				\n				\n				\n				\n				\n				\n				\n				\n				Karolina Hartman \nDe uit Noord-Zweden afkomstige mezzosopraan Karolina Hartman studeerde aanvankelijk piano en vervolgens zang in Utrecht bij Henny Diemer. Zij werkte als soliste in opera en oratorium samen met gerenommerde ensembles in binnen- en buitenland\, o.a. in de opera De Blinden van Jan Kuijken\, en Einstein on the Beach van Philipp Glass. Ze was o.a. te gast bij de Nederlandse Bachvereniging met muziek van Johann Rosenmüller en solocantates van Alessandro Scarlatti\, bij het Festival Classique en bij het Peter de Grote Festival. Daarnaast heeft ze een grote voorliefde voor de liedkunst\, waarbij ze regelmatig Zweeds repertoire presenteert.
URL:https://michavanweers.com/agenda/221218/
END:VEVENT
END:VCALENDAR