BEGIN:VCALENDAR
VERSION:2.0
PRODID:-//Micha van Weers - ECPv6.15.20//NONSGML v1.0//EN
CALSCALE:GREGORIAN
METHOD:PUBLISH
X-WR-CALNAME:Micha van Weers
X-ORIGINAL-URL:https://michavanweers.com
X-WR-CALDESC:Evenementen voor Micha van Weers
REFRESH-INTERVAL;VALUE=DURATION:PT1H
X-Robots-Tag:noindex
X-PUBLISHED-TTL:PT1H
BEGIN:VTIMEZONE
TZID:Europe/Amsterdam
BEGIN:DAYLIGHT
TZOFFSETFROM:+0100
TZOFFSETTO:+0200
TZNAME:CEST
DTSTART:20250330T010000
END:DAYLIGHT
BEGIN:STANDARD
TZOFFSETFROM:+0200
TZOFFSETTO:+0100
TZNAME:CET
DTSTART:20251026T010000
END:STANDARD
BEGIN:DAYLIGHT
TZOFFSETFROM:+0100
TZOFFSETTO:+0200
TZNAME:CEST
DTSTART:20260329T010000
END:DAYLIGHT
BEGIN:STANDARD
TZOFFSETFROM:+0200
TZOFFSETTO:+0100
TZNAME:CET
DTSTART:20261025T010000
END:STANDARD
BEGIN:DAYLIGHT
TZOFFSETFROM:+0100
TZOFFSETTO:+0200
TZNAME:CEST
DTSTART:20270328T010000
END:DAYLIGHT
BEGIN:STANDARD
TZOFFSETFROM:+0200
TZOFFSETTO:+0100
TZNAME:CET
DTSTART:20271031T010000
END:STANDARD
END:VTIMEZONE
BEGIN:VEVENT
DTSTART;TZID=Europe/Amsterdam:20260531T150000
DTEND;TZID=Europe/Amsterdam:20260531T170000
DTSTAMP:20260421T022002
CREATED:20260327T114909Z
LAST-MODIFIED:20260327T120240Z
UID:1531-1780239600-1780246800@michavanweers.com
SUMMARY:Malden | liedrecital - Moje Láska
DESCRIPTION:Uitvoerenden:  \n\nKarolina Hartman – mezzosopraan\nMicha van Weers – piano\n\n\nDatum: 31 mei 2026Aanvangstijd: 15.00 uurOrganisatie: Vereniging Vrienden van het Lied  \nProgrammaIn ‘Moje Láska’ wordt de liefde bezongen in Tsjechische liederen van Antonín Dvořák\, Leoš Janáček\, Bohuslav Martinů\, en verrassende werken van zijn leerlinge Vítězslava Kaprálová. De liederen worden afgewisseld met prachtige Tsjechische pianosolowerken.  \nLocatie: t.h.v. Heidezoom 4\, 6581 VB Malden  \nAanmelden:bij contactpersoon Bertien Keijser per mail: nijmegen@vvhl.nl  \n\nInfo: www.vvhl.nl  \n\n\n			\n			\n				\n				\n				\n				\n				\n				\n				\n				\n				\n				Mezzosopraan Karolina Hartman is afkomstig uit Noord-Zweden. Zij studeerde piano en vervolgens zang in Utrecht bij Henny Diemer. Als soliste werkte zij in opera en oratorium samen met gerenommeerde ensembles in binnen- en buitenland\, onder meer in De Blinden van Jan Kuijken en Einstein on the Beach. Zij was te horen bij onder andere de Nederlandse Bachvereniging\, het Festival Classique en het Peter de Grote Festival\, met repertoire van onder meer Johann Rosenmüller en Alessandro Scarlatti. Daarnaast geeft Karolina regelmatig liedrecitals\, waarin het lied een centrale plaats inneemt. Met haar warme en expressieve stem brengt zij programma’s waarin Zweeds repertoire een bijzondere rol speelt. 
URL:https://michavanweers.com/agenda/260531/
END:VEVENT
END:VCALENDAR